BEGIN:VCALENDAR
VERSION:2.0
PRODID:-//ChamberMaster//Event Calendar 2.0//EN
METHOD:PUBLISH
X-PUBLISHED-TTL:P3D
REFRESH-INTERVAL:P3D
CALSCALE:GREGORIAN
BEGIN:VEVENT
DTSTART:20200416T203000Z
DTEND:20200416T213000Z
X-MICROSOFT-CDO-ALLDAYEVENT:FALSE
SUMMARY:Virtual Chamber Connection
DESCRIPTION:Join us for our first-ever Virtual Chamber Connection!\n\n\n\nWhat better way to end your day than with a Happy Hour networking session with fellow Chamber members? This is a great way to connect with other members and build a larger network of referrals.\n\n\n\nRegistration is REQUIRED for this event.\n\n\n\nRegister here: https://zoom.us/meeting/register/uZYrce2hpzkj1vT5mI5HZAQxOuNSszuWQw?fbclid=IwAR1mQ_OtCOKSVwIoWzaf4gXx2b39sLjGl-OquPJJDGp40tC_7Y0I9e1sKKQ\n\n\n\nDate: Thursday\, April 16th\n\nTime: 4:30 PM\n\nThis event will be held via ZOOM.
X-ALT-DESC;FMTTYPE=text/html:<span style="color: rgb(29\, 33\, 41)\; font-family: system-ui\, -apple-system\, system-ui\, &quot\;.SFNSText-Regular&quot\;\, sans-serif\; font-size: 14px\; white-space: pre-wrap\;">Join us for our first-ever Virtual Chamber Connection!</span><br style="color: rgb(29\, 33\, 41)\; font-family: system-ui\, -apple-system\, system-ui\, &quot\;.SFNSText-Regular&quot\;\, sans-serif\; font-size: 14px\; white-space: pre-wrap\;" />\n<br style="color: rgb(29\, 33\, 41)\; font-family: system-ui\, -apple-system\, system-ui\, &quot\;.SFNSText-Regular&quot\;\, sans-serif\; font-size: 14px\; white-space: pre-wrap\;" />\n<span style="color: rgb(29\, 33\, 41)\; font-family: system-ui\, -apple-system\, system-ui\, &quot\;.SFNSText-Regular&quot\;\, sans-serif\; font-size: 14px\; white-space: pre-wrap\;">What better way to end your day than with a Happy Hour networking session with fellow Chamber members? This is a great way to connect with other members and build a larger network of referrals.</span><br style="color: rgb(29\, 33\, 41)\; font-family: system-ui\, -apple-system\, system-ui\, &quot\;.SFNSText-Regular&quot\;\, sans-serif\; font-size: 14px\; white-space: pre-wrap\;" />\n<br style="color: rgb(29\, 33\, 41)\; font-family: system-ui\, -apple-system\, system-ui\, &quot\;.SFNSText-Regular&quot\;\, sans-serif\; font-size: 14px\; white-space: pre-wrap\;" />\n<span style="color: rgb(29\, 33\, 41)\; font-family: system-ui\, -apple-system\, system-ui\, &quot\;.SFNSText-Regular&quot\;\, sans-serif\; font-size: 14px\; white-space: pre-wrap\;">Registration is REQUIRED for this event.<br />\n<br />\nRegister here: </span><a href="https://zoom.us/meeting/register/uZYrce2hpzkj1vT5mI5HZAQxOuNSszuWQw?fbclid=IwAR1mQ_OtCOKSVwIoWzaf4gXx2b39sLjGl-OquPJJDGp40tC_7Y0I9e1sKKQ">https://zoom.us/meeting/register/uZYrce2hpzkj1vT5mI5HZAQxOuNSszuWQw?fbclid=IwAR1mQ_OtCOKSVwIoWzaf4gXx2b39sLjGl-OquPJJDGp40tC_7Y0I9e1sKKQ</a><br style="color: rgb(29\, 33\, 41)\; font-family: system-ui\, -apple-system\, system-ui\, &quot\;.SFNSText-Regular&quot\;\, sans-serif\; font-size: 14px\; white-space: pre-wrap\;" />\n<br style="color: rgb(29\, 33\, 41)\; font-family: system-ui\, -apple-system\, system-ui\, &quot\;.SFNSText-Regular&quot\;\, sans-serif\; font-size: 14px\; white-space: pre-wrap\;" />\n<span style="color: rgb(29\, 33\, 41)\; font-family: system-ui\, -apple-system\, system-ui\, &quot\;.SFNSText-Regular&quot\;\, sans-serif\; font-size: 14px\; white-space: pre-wrap\;">Date: Thursday\, April 16th</span><br style="color: rgb(29\, 33\, 41)\; font-family: system-ui\, -apple-system\, system-ui\, &quot\;.SFNSText-Regular&quot\;\, sans-serif\; font-size: 14px\; white-space: pre-wrap\;" />\n<span style="color: rgb(29\, 33\, 41)\; font-family: system-ui\, -apple-system\, system-ui\, &quot\;.SFNSText-Regular&quot\;\, sans-serif\; font-size: 14px\; white-space: pre-wrap\;">Time: 4:30 PM</span><br style="color: rgb(29\, 33\, 41)\; font-family: system-ui\, -apple-system\, system-ui\, &quot\;.SFNSText-Regular&quot\;\, sans-serif\; font-size: 14px\; white-space: pre-wrap\;" />\n<span style="color: rgb(29\, 33\, 41)\; font-family: system-ui\, -apple-system\, system-ui\, &quot\;.SFNSText-Regular&quot\;\, sans-serif\; font-size: 14px\; white-space: pre-wrap\;">This event will be held via ZOOM.</span>
LOCATION:
UID:e.3273.102
SEQUENCE:3
DTSTAMP:20260425T042441Z
URL:https://business.knoxcountychamber.com/events/details/virtual-chamber-connection-102
END:VEVENT

END:VCALENDAR
