BEGIN:VCALENDAR
VERSION:2.0
PRODID:-//ChamberMaster//Event Calendar 2.0//EN
METHOD:PUBLISH
X-PUBLISHED-TTL:P3D
REFRESH-INTERVAL:P3D
CALSCALE:GREGORIAN
BEGIN:VEVENT
DTSTART:20210807T120000Z
DTEND:20210807T140000Z
X-MICROSOFT-CDO-ALLDAYEVENT:FALSE
SUMMARY:Watermelon Festival 5K
DESCRIPTION:Join us for our Watermelon Festival 5k Run/Walk!\n\n\n	When: Saturday\, August 7\, 2021\n	Time: 8:00 am Start\n	Where: Patrick Henry Square (The Run will start at Patrick Henry Square Vincennes\, IN and end in the 200 block of Main Street.)\n	Cost: $30\n\n\nRace day information\n\nPacket pick-up will start at 7:00 am in the morning at Patrick Henry Square. We will have your race day bag with your event t-shirt\, race bib\, and other goodies. Late registration and packet pick-up will end at 7:30 am. \n\n\n\nThe race will start at Patrick Henry Square at 8:00 am. Volunteers\, signs and police officers will be located along the route to point the way. There will also be a water station located at the halfway point. \n\n\n\nThe Knox County Chamber of Commerce will be awarding the Overall Top Female and Male Runners. There is also a contest for the "Best Dressed" Runner. Wear your best watermelon themed outfit! \n\n\n\nFinisher medals will be awarded at the finish line. Snacks and other goodies will be provided at the end of the race. \n\n \n\nTo ensure you receive a Watermelon Fest 5K Run/Walk t-shirt\, please register by Wednesday\, July 28.
X-ALT-DESC;FMTTYPE=text/html:<h1 style="box-sizing: inherit\; font-family: Verdana\; margin: 0px 0px 20px\; padding: 0px\; border: 0px\; font-size: 2.5rem\; font-weight: 400\; outline: 0px\; vertical-align: baseline\; color: rgb(22\, 24\, 26)\; line-height: 1.3\; background-color: rgb(255\, 255\, 255)\;"><strong><span style="color:#16181A\;"><span style="font-family:arial\,sans-serif\;"><span style="font-size:13.5pt\;">Join us for our Watermelon Festival 5k Run/Walk!</span></span></span></strong></h1>\n\n<ul>\n	<li style="color:#16181A\;margin-bottom:6.0pt\;line-height:normal\;vertical-align:baseline\;"><strong><span style="font-family:arial\,sans-serif\;"><span style="font-size:10.5pt\;">When</span></span></strong><span style="font-family:arial\,sans-serif\;"><span style="font-size:10.5pt\;">: Saturday\, August 7\, 2021</span></span></li>\n	<li style="color:#16181A\;margin-bottom:6.0pt\;line-height:normal\;vertical-align:baseline\;"><strong><span style="font-family:arial\,sans-serif\;"><span style="font-size:10.5pt\;">Time</span></span></strong><span style="font-family:arial\,sans-serif\;"><span style="font-size:10.5pt\;">: 8:00 am Start</span></span></li>\n	<li style="color:#16181A\;margin-bottom:6.0pt\;line-height:normal\;vertical-align:baseline\;"><strong><span style="font-family:arial\,sans-serif\;"><span style="font-size:10.5pt\;">Where</span></span></strong><span style="font-family:arial\,sans-serif\;"><span style="font-size:10.5pt\;">: Patrick Henry Square&nbsp\;(The Run will start at Patrick Henry Square Vincennes\, IN and end in the 200 block of Main Street.)</span></span></li>\n	<li style="color:#16181A\;margin-bottom:6.0pt\;line-height:normal\;vertical-align:baseline\;"><strong><span style="font-family:arial\,sans-serif\;"><span style="font-size:10.5pt\;">Cost</span></span></strong><span style="font-family:arial\,sans-serif\;"><span style="font-size:10.5pt\;">: $30</span></span></li>\n</ul>\n\n<h2 style="box-sizing: inherit\; font-family: Verdana\; margin: 0px 0px 20px\; padding: 0px\; border: 0px\; font-size: 1.75rem\; font-weight: 400\; outline: 0px\; vertical-align: baseline\; color: rgb(22\, 24\, 26)\; line-height: 1.3\; background-color: rgb(255\, 255\, 255)\;"><span style="font-size:14px\;"><span style="font-family:arial\;"><strong><span style="color:#16181A\;"><span style="font-family:arial\,sans-serif\;"><span style="font-size:10.5pt\;">Race day information</span></span></span></strong></span></span></h2>\n\n<p style="box-sizing: inherit\; font-family: Verdana\; margin: 0px 0px 20px\; padding: 0px\; border: 0px\; font-size: 1.75rem\; font-weight: 400\; outline: 0px\; vertical-align: baseline\; color: rgb(22\, 24\, 26)\; line-height: 1.3\; background-color: rgb(255\, 255\, 255)\;"><span style="font-size:14px\;"><span style="border:none windowtext 1.0pt\;padding:0in\;"><span style="color:#16181A\;"><span style="font-family:arial\,sans-serif\;">Packet pick-up will start at 7:00&nbsp\;am in the morning at Patrick Henry Square. We will have your race day bag with your event t-shirt\, race bib\, and other goodies.&nbsp\;Late registration and packet pick-up will end at 7:30 am.&nbsp\;</span></span></span><br />\n<br />\n<span style="border:none windowtext 1.0pt\;padding:0in\;"><span style="color:#16181A\;"><span style="font-family:arial\,sans-serif\;">The race will start at Patrick Henry Square at 8:00 am. Volunteers\, signs and police officers will be located along the route to point the way. There will also be a water station located at the halfway point.&nbsp\;</span></span></span><br />\n<br />\n<span style="border:none windowtext 1.0pt\;padding:0in\;"><span style="color:#16181A\;"><span style="font-family:arial\,sans-serif\;">The Knox County Chamber of Commerce will be awarding the Overall Top Female and Male Runners. There is also a contest for the &ldquo\;Best Dressed&rdquo\; Runner. Wear your best watermelon themed outfit!&nbsp\;</span></span></span><br />\n<br />\n<span style="border:none windowtext 1.0pt\;padding:0in\;"><span style="color:#16181A\;"><span style="font-family:arial\,sans-serif\;">Finisher medals will be awarded at the finish line.&nbsp\;</span></span></span><span style="border:none windowtext 1.0pt\;padding:0in\;"><span style="color:#16181A\;"><span style="font-family:arial\,sans-serif\;">Snacks and other goodies will be provided at the end of the race.&nbsp\;</span></span></span></span><br />\n&nbsp\;</p>\n\n<p><span style="font-size:14px\;">To ensure you receive a Watermelon Fest 5K Run/Walk t-shirt\, please register by Wednesday\, July 28.&nbsp\;</span></p>\n
LOCATION:
UID:e.3273.145
SEQUENCE:3
DTSTAMP:20260422T170505Z
URL:https://business.knoxcountychamber.com/events/details/watermelon-festival-5k-145
END:VEVENT

END:VCALENDAR
