BEGIN:VCALENDAR
VERSION:2.0
PRODID:-//ChamberMaster//Event Calendar 2.0//EN
METHOD:PUBLISH
X-PUBLISHED-TTL:P3D
REFRESH-INTERVAL:P3D
CALSCALE:GREGORIAN
BEGIN:VEVENT
DTSTART:20240919T200000Z
DTEND:20240919T210000Z
X-MICROSOFT-CDO-ALLDAYEVENT:FALSE
SUMMARY:Webinar Viewing: Managing Your Online Presence & Developing a Marketing Plan
DESCRIPTION:Join us at The Pantheon for a group webinar viewing\, presented by Main Street America.\n\n\n\nA strong online presence is essential for any small business in today's digital age. This workshop will guide you through the process of keeping your Business Profile\, social media accounts\, and website up-to-date and optimized. You'll learn how to leverage valuable tools like Google Analytics to track your progress and ensure your marketing efforts are reaching the right target audience. Finally\, we'll dive into creating a strategic marketing plan that leverages best practices for long-term success. \n\nTopics covered in this session: \n\n\n	Maintaining accurate and updated information across all your online profiles including Google Business Profile\, social media accounts\, and website content \n	Understanding the importance of regular website updates and backlinks for SEO strength \n	Understanding your target audience \n	Defining your brand message and maintaining consistency for your audience \n	Exploring various marketing channels for small businesses \n	Learn about paid advertising on social media and Google Ads \n	Utilizing free analytics tools to measure your marketing efforts \n	Making data-driven decisions based on insights gained from analytics \n\n\nThis session is led by Joshua Miller\, MSA Small Biz Digital Trainer. Learn about Joshua here.
X-ALT-DESC;FMTTYPE=text/html:<p>Join us at The Pantheon for a group webinar viewing\, presented by Main Street America.<br />\n<br />\nA strong online presence is essential for any small business in today&rsquo\;s digital age. This workshop will guide you through the process of keeping your Business Profile\, social media accounts\, and website up-to-date and optimized. You&rsquo\;ll learn how to leverage valuable tools like Google Analytics to track your progress and ensure your marketing efforts are reaching the right target audience. Finally\, we&rsquo\;ll dive into creating a&nbsp\;strategic marketing plan that leverages best practices for long-term success.&nbsp\;</p>\n\n<p>Topics covered in this session:&nbsp\;</p>\n\n<ul>\n	<li>Maintaining accurate and updated information across all your online profiles including Google Business Profile\, social media accounts\, and website content&nbsp\;</li>\n	<li>Understanding the importance of regular website updates and backlinks for&nbsp\;SEO&nbsp\;strength&nbsp\;</li>\n	<li>Understanding your target audience&nbsp\;</li>\n	<li>Defining your brand message and maintaining consistency for your audience&nbsp\;</li>\n	<li>Exploring various marketing channels for small businesses&nbsp\;</li>\n	<li>Learn about paid advertising on social media and Google Ads&nbsp\;</li>\n	<li>Utilizing free analytics tools to measure your marketing efforts&nbsp\;</li>\n	<li>Making data-driven decisions based on insights gained from analytics&nbsp\;</li>\n</ul>\n\n<p>This session is led by Joshua Miller\,&nbsp\;MSA&nbsp\;Small Biz Digital Trainer.&nbsp\;<a href="https://mainstreet.org/about/our-team/joshua-miller" rel="noreferrer noopener" style="box-sizing: inherit\; color: var(--color-body-anchor)\; cursor: pointer\; text-decoration-thickness: 1px\; transition: color 0.2s ease-in-out\;" target="_blank">Learn about Joshua here.</a></p>\n
LOCATION:The Pantheon 428 Main Street Vincennes\, IN 47591
UID:e.3273.5671
SEQUENCE:3
DTSTAMP:20260419T181427Z
URL:https://business.knoxcountychamber.com/events/details/webinar-viewing-managing-your-online-presence-developing-a-marketing-plan-5671
END:VEVENT

END:VCALENDAR
